<?xml version="1.0" encoding="UTF-8"?>
<Capabilities xmlns="http://www.opengis.net/wmts/1.0"
	xmlns:ows="http://www.opengis.net/ows/1.1"
	xmlns:xlink="http://www.w3.org/1999/xlink"
	xmlns:xsi="http://www.w3.org/2001/XMLSchema-instance"
	xmlns:gml="http://www.opengis.net/gml"
	xsi:schemaLocation="http://www.opengis.net/wmts/1.0 http://schemas.opengis.net/wmts/1.0/wmtsGetCapabilities_response.xsd"
	version="1.0.0">
  <!-- Service Identification --> 
 <ows:ServiceIdentification>
	<ows:Title>BDQH07122018</ows:Title>
	<ows:ServiceType>OGC WMTS</ows:ServiceType>
	<ows:ServiceTypeVersion>1.0.0</ows:ServiceTypeVersion>
</ows:ServiceIdentification> <!-- Operations Metadata --> <ows:OperationsMetadata>
	<ows:Operation name="GetCapabilities">
		<ows:DCP>
			<ows:HTTP>
				<ows:Get xlink:href="http://gis.sotnmt.baria-vungtau.gov.vn:8080/arcgis/rest/services/BDQH07122018/MapServer/WMTS/1.0.0/WMTSCapabilities.xml">
					<ows:Constraint name="GetEncoding">
						<ows:AllowedValues>
							<ows:Value>RESTful</ows:Value>
						</ows:AllowedValues>
					</ows:Constraint>
				</ows:Get>
                <!-- add KVP binding in 10.1 -->
                <ows:Get xlink:href="http://gis.sotnmt.baria-vungtau.gov.vn:8080/arcgis/rest/services/BDQH07122018/MapServer/WMTS?">
                  <ows:Constraint name="GetEncoding">
                    <ows:AllowedValues>
                      <ows:Value>KVP</ows:Value>
                    </ows:AllowedValues>
                  </ows:Constraint>
                </ows:Get>
    		</ows:HTTP>
    </ows:DCP>
	</ows:Operation>
	<ows:Operation name="GetTile">
		<ows:DCP>
			<ows:HTTP>
				<ows:Get xlink:href="http://gis.sotnmt.baria-vungtau.gov.vn:8080/arcgis/rest/services/BDQH07122018/MapServer/WMTS/tile/1.0.0/">
					<ows:Constraint name="GetEncoding">
						<ows:AllowedValues>
							<ows:Value>RESTful</ows:Value>
						</ows:AllowedValues>
					</ows:Constraint>
				</ows:Get>
                <ows:Get xlink:href="http://gis.sotnmt.baria-vungtau.gov.vn:8080/arcgis/rest/services/BDQH07122018/MapServer/WMTS?">
                  <ows:Constraint name="GetEncoding">
                    <ows:AllowedValues>
                      <ows:Value>KVP</ows:Value>
                    </ows:AllowedValues>
                  </ows:Constraint>
                </ows:Get>
            </ows:HTTP>
		</ows:DCP>
	</ows:Operation>
</ows:OperationsMetadata> 
<Contents>
  <!--Layer-->  
  <Layer>
    <ows:Title>BDQH07122018</ows:Title> 
    <ows:Identifier>BDQH07122018</ows:Identifier>
      <ows:BoundingBox crs="urn:ogc:def:crs:EPSG::0">
			<ows:LowerCorner>416563.58499999996 1133028.6177999992</ows:LowerCorner>
			<ows:UpperCorner>485060.47059999965 1194872.7259999998</ows:UpperCorner>
      </ows:BoundingBox>
    <ows:WGS84BoundingBox crs="urn:ogc:def:crs:OGC:2:84">
      <ows:LowerCorner>106.98698449278241 10.2458077056522</ows:LowerCorner>
      <ows:UpperCorner>107.61362174641981 10.8058371277259</ows:UpperCorner>
    </ows:WGS84BoundingBox>
    <Style isDefault="true">
      <ows:Title>Default Style</ows:Title>
      <ows:Identifier>default</ows:Identifier>
    </Style>
    <Format>image/png</Format>
    <TileMatrixSetLink>
      <TileMatrixSet>default028mm</TileMatrixSet>
    </TileMatrixSetLink>
    <ResourceURL format="image/png" resourceType="tile" template="http://gis.sotnmt.baria-vungtau.gov.vn:8080/arcgis/rest/services/BDQH07122018/MapServer/WMTS/tile/1.0.0/BDQH07122018/{Style}/{TileMatrixSet}/{TileMatrix}/{TileRow}/{TileCol}.png" />
  </Layer> 
   <!--TileMatrixSet-->
   <TileMatrixSet>
     <ows:Title>TileMatrix using 0.28mm</ows:Title>
     <ows:Abstract>The tile matrix set that has scale values calculated based on the dpi defined by OGC specification (dpi assumes 0.28mm as the physical distance of a pixel).</ows:Abstract> 
     <ows:Identifier>default028mm</ows:Identifier>
     <ows:SupportedCRS>urn:ogc:def:crs:EPSG::0</ows:SupportedCRS>
          <TileMatrix>
          <ows:Identifier>0</ows:Identifier>
          <ScaleDenominator>944942.3660750897</ScaleDenominator>
          <TopLeftCorner>-5122600.0 1.00011E7</TopLeftCorner>  
          <TileWidth>256</TileWidth> 
          <TileHeight>256</TileHeight>
            <MatrixWidth>83</MatrixWidth> 
            <MatrixHeight>131</MatrixHeight>
          </TileMatrix>
          <TileMatrix>
          <ows:Identifier>1</ows:Identifier>
          <ScaleDenominator>472471.18303754483</ScaleDenominator>
          <TopLeftCorner>-5122600.0 1.00011E7</TopLeftCorner>  
          <TileWidth>256</TileWidth> 
          <TileHeight>256</TileHeight>
            <MatrixWidth>166</MatrixWidth> 
            <MatrixHeight>262</MatrixHeight>
          </TileMatrix>
          <TileMatrix>
          <ows:Identifier>2</ows:Identifier>
          <ScaleDenominator>283482.7098225269</ScaleDenominator>
          <TopLeftCorner>-5122600.0 1.00011E7</TopLeftCorner>  
          <TileWidth>256</TileWidth> 
          <TileHeight>256</TileHeight>
            <MatrixWidth>276</MatrixWidth> 
            <MatrixHeight>437</MatrixHeight>
          </TileMatrix>
          <TileMatrix>
          <ows:Identifier>3</ows:Identifier>
          <ScaleDenominator>188988.4732150179</ScaleDenominator>
          <TopLeftCorner>-5122600.0 1.00011E7</TopLeftCorner>  
          <TileWidth>256</TileWidth> 
          <TileHeight>256</TileHeight>
            <MatrixWidth>414</MatrixWidth> 
            <MatrixHeight>655</MatrixHeight>
          </TileMatrix>
          <TileMatrix>
          <ows:Identifier>4</ows:Identifier>
          <ScaleDenominator>94494.23660750895</ScaleDenominator>
          <TopLeftCorner>-5122600.0 1.00011E7</TopLeftCorner>  
          <TileWidth>256</TileWidth> 
          <TileHeight>256</TileHeight>
            <MatrixWidth>828</MatrixWidth> 
            <MatrixHeight>1310</MatrixHeight>
          </TileMatrix>
          <TileMatrix>
          <ows:Identifier>5</ows:Identifier>
          <ScaleDenominator>47247.118303754476</ScaleDenominator>
          <TopLeftCorner>-5122600.0 1.00011E7</TopLeftCorner>  
          <TileWidth>256</TileWidth> 
          <TileHeight>256</TileHeight>
            <MatrixWidth>1656</MatrixWidth> 
            <MatrixHeight>2619</MatrixHeight>
          </TileMatrix>
          <TileMatrix>
          <ows:Identifier>6</ows:Identifier>
          <ScaleDenominator>28348.27098225269</ScaleDenominator>
          <TopLeftCorner>-5122600.0 1.00011E7</TopLeftCorner>  
          <TileWidth>256</TileWidth> 
          <TileHeight>256</TileHeight>
            <MatrixWidth>2760</MatrixWidth> 
            <MatrixHeight>4365</MatrixHeight>
          </TileMatrix>
          <TileMatrix>
          <ows:Identifier>7</ows:Identifier>
          <ScaleDenominator>18898.84732150179</ScaleDenominator>
          <TopLeftCorner>-5122600.0 1.00011E7</TopLeftCorner>  
          <TileWidth>256</TileWidth> 
          <TileHeight>256</TileHeight>
            <MatrixWidth>4140</MatrixWidth> 
            <MatrixHeight>6547</MatrixHeight>
          </TileMatrix>
          <TileMatrix>
          <ows:Identifier>8</ows:Identifier>
          <ScaleDenominator>4724.711830375448</ScaleDenominator>
          <TopLeftCorner>-5122600.0 1.00011E7</TopLeftCorner>  
          <TileWidth>256</TileWidth> 
          <TileHeight>256</TileHeight>
            <MatrixWidth>16559</MatrixWidth> 
            <MatrixHeight>26186</MatrixHeight>
          </TileMatrix>
          <TileMatrix>
          <ows:Identifier>9</ows:Identifier>
          <ScaleDenominator>2834.827098225269</ScaleDenominator>
          <TopLeftCorner>-5122600.0 1.00011E7</TopLeftCorner>  
          <TileWidth>256</TileWidth> 
          <TileHeight>256</TileHeight>
            <MatrixWidth>27597</MatrixWidth> 
            <MatrixHeight>43642</MatrixHeight>
          </TileMatrix>
          <TileMatrix>
          <ows:Identifier>10</ows:Identifier>
          <ScaleDenominator>1889.8847321501792</ScaleDenominator>
          <TopLeftCorner>-5122600.0 1.00011E7</TopLeftCorner>  
          <TileWidth>256</TileWidth> 
          <TileHeight>256</TileHeight>
            <MatrixWidth>41396</MatrixWidth> 
            <MatrixHeight>65463</MatrixHeight>
          </TileMatrix>
          <TileMatrix>
          <ows:Identifier>11</ows:Identifier>
          <ScaleDenominator>944.9423660750896</ScaleDenominator>
          <TopLeftCorner>-5122600.0 1.00011E7</TopLeftCorner>  
          <TileWidth>256</TileWidth> 
          <TileHeight>256</TileHeight>
            <MatrixWidth>82791</MatrixWidth> 
            <MatrixHeight>130926</MatrixHeight>
          </TileMatrix>
          <TileMatrix>
          <ows:Identifier>12</ows:Identifier>
          <ScaleDenominator>472.4711830375448</ScaleDenominator>
          <TopLeftCorner>-5122600.0 1.00011E7</TopLeftCorner>  
          <TileWidth>256</TileWidth> 
          <TileHeight>256</TileHeight>
            <MatrixWidth>165581</MatrixWidth> 
            <MatrixHeight>261852</MatrixHeight>
          </TileMatrix>
   </TileMatrixSet>
</Contents>
<ServiceMetadataURL xlink:href="http://gis.sotnmt.baria-vungtau.gov.vn:8080/arcgis/rest/services/BDQH07122018/MapServer/WMTS/1.0.0/WMTSCapabilities.xml" /> 
</Capabilities>
